BEGIN:VCALENDAR
VERSION:2.0
PRODID:-//ChamberMaster//Event Calendar 2.0//EN
METHOD:PUBLISH
X-PUBLISHED-TTL:P3D
REFRESH-INTERVAL:P3D
CALSCALE:GREGORIAN
BEGIN:VEVENT
DTSTART:20250909T220000Z
DTEND:20250910T000000Z
X-MICROSOFT-CDO-ALLDAYEVENT:FALSE
SUMMARY:Ambassador Bash
DESCRIPTION:After Hours Networking\, a unique blend of business networking and socializing\, designed to create a relaxed and engaging atmosphere for attendees. Join some of our Chamber  members and friends\, to connect with peers\, showcase your business\, and foster your professional relationships. You can enjoy a variety of refreshments\, including food and drinks all while engaging in casual conversations and networking opportunities.
X-ALT-DESC;FMTTYPE=text/html:<span style="font-family:verdana\;"><a class="gs_mdlink" h="ID=SERP.5567\,5028.1" href="https://www.bing.com/ck/a?!&amp\;&amp\;p=d2bdfd0481369528c88d2192f91c593a295a560ec0e1cb0a9b620ef695ee827fJmltdHM9MTc1NTIxNjAwMA&amp\;ptn=3&amp\;ver=2&amp\;hsh=4&amp\;fclid=23e20a3b-d8dc-68e5-3f5d-0545d97469b8&amp\;u=a1aHR0cHM6Ly93d3cucGFya2VyY2hhbWJlci5jb20vdGlwcy1hZnRlci1ob3Vycy1uZXR3b3JraW5nLw&amp\;ntb=1" style="color: rgba(0\, 0\, 0\, 0.8)\; text-decoration-line: none\; touch-action: manipulation\; font-family: Roboto\, Helvetica\, sans-serif\; font-size: 16px\; background-color: rgb(240\, 243\, 255)\;" tabindex="0" target="_blank"><span class="gs_cit_txt" data-hover-id="1" data-sups="1\,2\,3\,4" style="touch-action: manipulation\;"><span style="background-color:#FFFFFF\;">After Hours Networking\, a unique blend of business networking and socializing\, designed to create a relaxed and engaging atmosphere for attendees. Join some of our Chamber&nbsp\; members and friends\, to connect with peers\, showcase your business\, and foster your professional relationships. You can enjoy a variety of refreshments\, including food and drinks all while engaging in casual conversations and networking opportunities.&nbsp\;</span></span></a></span>
LOCATION:The Local House 2236 Michigan Ave\, Arnold\, MO 63010
UID:e.3169.3847
SEQUENCE:3
DTSTAMP:20260424T003338Z
URL:https://business.arnoldchamber.org/events/details/ambassador-bash-3847
END:VEVENT

END:VCALENDAR
