BEGIN:VCALENDAR
VERSION:2.0
PRODID:-//ChamberMaster//Event Calendar 2.0//EN
METHOD:PUBLISH
X-PUBLISHED-TTL:P3D
REFRESH-INTERVAL:P3D
CALSCALE:GREGORIAN
BEGIN:VEVENT
DTSTART:20260211T223000Z
DTEND:20260211T231500Z
X-MICROSOFT-CDO-ALLDAYEVENT:FALSE
SUMMARY:Art Masters Class: Andy Warhol
DESCRIPTION:Learn about the artist Andy Warhol before creating a project based on his artwork "Flowers". For ages 6-14 years! Sign-up required! Call 636-296-2204 to register or register at jeffcolib.org events calendar Date: Wednesday\, February 11\, 2026 Time: 4:30pm - 5:15pm
X-ALT-DESC;FMTTYPE=text/html:Learn about the artist Andy Warhol before creating a project based on his artwork &quot\;Flowers&quot\;. For ages 6-14 years! Sign-up required! Call 636-296-2204 to register or register at jeffcolib.org events calendar Date: Wednesday\, February 11\, 2026 Time: 4:30pm - 5:15pm
LOCATION:Jefferson County Library Arnold Branch 1701 Missouri State Rd Arnold MO 63010
UID:e.3169.4003
SEQUENCE:3
DTSTAMP:20260423T202955Z
URL:https://business.arnoldchamber.org/events/details/art-masters-class-andy-warhol-4003
END:VEVENT

END:VCALENDAR
