BEGIN:VCALENDAR
VERSION:2.0
PRODID:-//ChamberMaster//Event Calendar 2.0//EN
METHOD:PUBLISH
X-PUBLISHED-TTL:P3D
REFRESH-INTERVAL:P3D
CALSCALE:GREGORIAN
BEGIN:VEVENT
DTSTART:20251210T223000Z
DTEND:20251210T231500Z
X-MICROSOFT-CDO-ALLDAYEVENT:FALSE
SUMMARY:Art Masters Class: Ub Iwerks
DESCRIPTION:Learn about the artist Ub Iwerks before creating a project based on his artwork "Mickey Mouse". For ages 6-14 years! Sign-up required! Call 636-296-2204 to register or register online at jeffcolib.org events calendar Date: Wednesday\, December 10\, 2025 Time: 4:30pm - 5:15pm
X-ALT-DESC;FMTTYPE=text/html:Learn about the artist Ub Iwerks before creating a project based on his artwork &quot\;Mickey Mouse&quot\;. For ages 6-14 years! Sign-up required! Call 636-296-2204 to register or register online at jeffcolib.org events calendar Date: Wednesday\, December 10\, 2025 Time: 4:30pm - 5:15pm
LOCATION:Jefferson County Library Arnold Branch 1701 Missouri State Rd Arnold MO 63010
UID:e.3169.3945
SEQUENCE:3
DTSTAMP:20260423T180802Z
URL:https://business.arnoldchamber.org/events/details/art-masters-class-ub-iwerks-3945
END:VEVENT

END:VCALENDAR
