BEGIN:VCALENDAR
VERSION:2.0
PRODID:-//ChamberMaster//Event Calendar 2.0//EN
METHOD:PUBLISH
X-PUBLISHED-TTL:P3D
REFRESH-INTERVAL:P3D
CALSCALE:GREGORIAN
BEGIN:VEVENT
DTSTART:20250913T183000Z
DTEND:20250913T203000Z
X-MICROSOFT-CDO-ALLDAYEVENT:FALSE
SUMMARY:Beginner Knitting
DESCRIPTION:Learn the basics of knitting and get started on a dishcloth for yourself (or a friend)! We'll cover what you need to get started on a knitting project\, how to read a pattern\, how to do the basic stitches\, and then allow participants time to work on a simple project and get individualized help. This class is intended for beginners and all supplies will be provided. Registration required. Ages 16+. Call 636-296-2204 or register online at jeffcolib.org events calendar. Date: Saturday\, September 13\, 2025 Time: 1:30pm - 3:30pm
X-ALT-DESC;FMTTYPE=text/html:Learn the basics of knitting and get started on a dishcloth for yourself (or a friend)! We&#39\;ll cover what you need to get started on a knitting project\, how to read a pattern\, how to do the basic stitches\, and then allow participants time to work on a simple project and get individualized help. This class is intended for beginners and all supplies will be provided. Registration required. Ages 16+. Call 636-296-2204 or register online at jeffcolib.org events calendar. Date: Saturday\, September 13\, 2025 Time: 1:30pm - 3:30pm
LOCATION:Jefferson County Library Arnold Branch 1701 Missouri State Rd Arnold MO 63010
UID:e.3169.3833
SEQUENCE:3
DTSTAMP:20260423T225422Z
URL:https://business.arnoldchamber.org/events/details/beginner-knitting-09-13-2025-3833
END:VEVENT

END:VCALENDAR
