BEGIN:VCALENDAR
VERSION:2.0
PRODID:-//ChamberMaster//Event Calendar 2.0//EN
METHOD:PUBLISH
X-PUBLISHED-TTL:P3D
REFRESH-INTERVAL:P3D
CALSCALE:GREGORIAN
BEGIN:VEVENT
DTSTART:20250929T213000Z
DTEND:20250929T221500Z
X-MICROSOFT-CDO-ALLDAYEVENT:FALSE
SUMMARY:Book & Cook: Holy Squawkamole
DESCRIPTION:Join us virtually as we read a book and make a simple recipe to eat. The Zoom link and ingredient list will be emailed to participants prior to the event. Book: Holy Squawkamole by Susan Wood Recipe: Guacamole Toast Ingredients: Bread\, Avocado\, Lemon Juice\, Salt\, Tomato\, Onion\, Cayenne Pepper (optional)\, Cilantro (optional) Optional Ingredients: Toppings for Avocado Toast (Bacon\, Eggs\, Shrimp\, Veggies\, Cheese\, Salsa\, Fruit\, Nuts) Other Supplies: Toaster\, Sharp Knife\, Spoon\, Fork\, Bowl For ages 3 years & older! Sign-up required! Call 636-296-2204 to register or register at jeffcolib.org events calendar Date: Monday\, September 29\, 2025 Time: 4:30pm - 5:15pm
X-ALT-DESC;FMTTYPE=text/html:Join us virtually as we read a book and make a simple recipe to eat. The Zoom link and ingredient list will be emailed to participants prior to the event. Book: Holy Squawkamole by Susan Wood Recipe: Guacamole Toast Ingredients: Bread\, Avocado\, Lemon Juice\, Salt\, Tomato\, Onion\, Cayenne Pepper (optional)\, Cilantro (optional) Optional Ingredients: Toppings for Avocado Toast (Bacon\, Eggs\, Shrimp\, Veggies\, Cheese\, Salsa\, Fruit\, Nuts) Other Supplies: Toaster\, Sharp Knife\, Spoon\, Fork\, Bowl For ages 3 years &amp\; older! Sign-up required! Call 636-296-2204 to register or register at jeffcolib.org events calendar Date: Monday\, September 29\, 2025 Time: 4:30pm - 5:15pm
LOCATION:Jefferson County Library Arnold Branch 1701 Missouri State Rd Arnold MO 63010
UID:e.3169.3845
SEQUENCE:3
DTSTAMP:20260424T022857Z
URL:https://business.arnoldchamber.org/events/details/book-cook-holy-squawkamole-3845
END:VEVENT

END:VCALENDAR
