BEGIN:VCALENDAR
VERSION:2.0
PRODID:-//ChamberMaster//Event Calendar 2.0//EN
METHOD:PUBLISH
X-PUBLISHED-TTL:P3D
REFRESH-INTERVAL:P3D
CALSCALE:GREGORIAN
BEGIN:VEVENT
DTSTART:20251124T223000Z
DTEND:20251124T231500Z
X-MICROSOFT-CDO-ALLDAYEVENT:FALSE
SUMMARY:Book & Cook: Mini Monkey Bread
DESCRIPTION:Join us virtually as we read a book and make a simple recipe to eat. The Zoom link and ingredient list will be emailed to participants prior to the event. Book: Maybe . . . by Chris Haughton Recipe: Mini Monkey Bread Ingredients: Refrigerated Biscuit Dough\, Brown Sugar\, Cinnamon\, Butter Optional Ingredients: Apple Pie Filling\, Apple Pie Spice\, Chopped Nuts Other Supplies: Muffin Tins\, Bowl\, Ziploc Bags\, Spoons\, Measuring Spoons\, Knife\, Small Pot\, Stove\, Oven\, Pot Holders For ages 3 years & older! Sign-up required! Call 636-296-2204 to register or register at jeffcolib.org library Date: Monday\, November 24\, 2025 Time: 4:30pm - 5:15pm
X-ALT-DESC;FMTTYPE=text/html:Join us virtually as we read a book and make a simple recipe to eat. The Zoom link and ingredient list will be emailed to participants prior to the event. Book: Maybe . . . by Chris Haughton Recipe: Mini Monkey Bread Ingredients: Refrigerated Biscuit Dough\, Brown Sugar\, Cinnamon\, Butter Optional Ingredients: Apple Pie Filling\, Apple Pie Spice\, Chopped Nuts Other Supplies: Muffin Tins\, Bowl\, Ziploc Bags\, Spoons\, Measuring Spoons\, Knife\, Small Pot\, Stove\, Oven\, Pot Holders For ages 3 years &amp\; older! Sign-up required! Call 636-296-2204 to register or register at jeffcolib.org library Date: Monday\, November 24\, 2025 Time: 4:30pm - 5:15pm
LOCATION:Jefferson County Library Arnold Branch 1701 Missouri State Rd Arnold MO 63010
UID:e.3169.3911
SEQUENCE:3
DTSTAMP:20260423T154617Z
URL:https://business.arnoldchamber.org/events/details/book-cook-mini-monkey-bread-3911
END:VEVENT

END:VCALENDAR
