BEGIN:VCALENDAR
VERSION:2.0
PRODID:-//ChamberMaster//Event Calendar 2.0//EN
METHOD:PUBLISH
X-PUBLISHED-TTL:P3D
REFRESH-INTERVAL:P3D
CALSCALE:GREGORIAN
BEGIN:VEVENT
DTSTART:20251027T213000Z
DTEND:20251027T221500Z
X-MICROSOFT-CDO-ALLDAYEVENT:FALSE
SUMMARY:Book & Cook: Vampire Bite Cookies
DESCRIPTION:Join us virtually as we read a book and make a simple recipe to eat. The Zoom link and ingredient list will be emailed to participants prior to the event. Book: Vampire Jam Sandwich by Casey Lyall Recipe: Vampire Bite Cookies Ingredients: Refrigerated Sugar Cookie Dough (tube)\, Strawberry Jam Other Supplies: Oven\, Baking Sheet\, Parchment Paper\, Knife\, Spoon\, Pot Holders For ages 3 years & older! Sign-up required! Registration: call 636-296-2204\, email aheld@jeffcolib.org or visit the online Calendar of Events Date: Monday\, October 27\, 2025 Time: 4:30pm - 5:15pm
X-ALT-DESC;FMTTYPE=text/html:Join us virtually as we read a book and make a simple recipe to eat. The Zoom link and ingredient list will be emailed to participants prior to the event. Book: Vampire Jam Sandwich by Casey Lyall Recipe: Vampire Bite Cookies Ingredients: Refrigerated Sugar Cookie Dough (tube)\, Strawberry Jam Other Supplies: Oven\, Baking Sheet\, Parchment Paper\, Knife\, Spoon\, Pot Holders For ages 3 years &amp\; older! Sign-up required! Registration: call 636-296-2204\, email aheld@jeffcolib.org or visit the online Calendar of Events Date: Monday\, October 27\, 2025 Time: 4:30pm - 5:15pm
LOCATION:Jefferson County Library Arnold Branch 1701 Missouri State Rd Arnold MO 63010
UID:e.3169.3871
SEQUENCE:3
DTSTAMP:20260424T093105Z
URL:https://business.arnoldchamber.org/events/details/book-cook-vampire-bite-cookies-3871
END:VEVENT

END:VCALENDAR
