BEGIN:VCALENDAR
VERSION:2.0
PRODID:-//ChamberMaster//Event Calendar 2.0//EN
METHOD:PUBLISH
X-PUBLISHED-TTL:P3D
REFRESH-INTERVAL:P3D
CALSCALE:GREGORIAN
BEGIN:VEVENT
DTSTART:20251002T143000Z
DTEND:20251002T173000Z
X-MICROSOFT-CDO-ALLDAYEVENT:FALSE
SUMMARY:Charitable Angels
DESCRIPTION:Thursdays from 9:30 a.m.-12:30 p.m. Are you looking for a way to create crafts for a cause? The Charitable Angels have donated handcrafted items to organizations around the area. No sewing experience needed and new volunteers are welcome! All ages. Date: Thursday\, October 2\, 2025 Time: 9:30am - 12:30pm
X-ALT-DESC;FMTTYPE=text/html:Thursdays from 9:30 a.m.-12:30 p.m. Are you looking for a way to create crafts for a cause? The Charitable Angels have donated handcrafted items to organizations around the area. No sewing experience needed and new volunteers are welcome! All ages. Date: Thursday\, October 2\, 2025 Time: 9:30am - 12:30pm
LOCATION:Jefferson County Library Arnold Branch 1701 Missouri State Rd Arnold MO 63010
UID:e.3169.3878
SEQUENCE:3
DTSTAMP:20260424T060054Z
URL:https://business.arnoldchamber.org/events/details/charitable-angels-10-02-2025-3878
END:VEVENT

END:VCALENDAR
