BEGIN:VCALENDAR
VERSION:2.0
PRODID:-//ChamberMaster//Event Calendar 2.0//EN
METHOD:PUBLISH
X-PUBLISHED-TTL:P3D
REFRESH-INTERVAL:P3D
CALSCALE:GREGORIAN
BEGIN:VEVENT
DTSTART:20250927T180000Z
DTEND:20250927T200000Z
X-MICROSOFT-CDO-ALLDAYEVENT:FALSE
SUMMARY:Clothing Swap
DESCRIPTION:Drop off up to 5 bags or boxes of your washed\, clean\, and undamaged clothing (kids\, teens\, and adult sizes accepted) to the Arnold branch during one of our intake times. - Monday\, September 8th from 6-7 PM - Wednesday\, September 10th from 6-7 PM - Monday\, September 15th from 1-2 PM - Saturday\, September 20th from 10-11 AM - Wednesday\, September 24th from 5-7 PM We will not be accepting any drop offs outside of the designated times. Then come back to the Arnold Branch on Saturday\, September 27th from 1-3 PM to "shop" new (to you) clothes for you and your family. Check out our online calendar to learn more details about the clothing swap\, including what items are and aren't accepted.
X-ALT-DESC;FMTTYPE=text/html:Drop off up to 5 bags or boxes of your washed\, clean\, and undamaged clothing (kids\, teens\, and adult sizes accepted) to the Arnold branch during one of our intake times. - Monday\, September 8th from 6-7 PM - Wednesday\, September 10th from 6-7 PM - Monday\, September 15th from 1-2 PM - Saturday\, September 20th from 10-11 AM - Wednesday\, September 24th from 5-7 PM We will not be accepting any drop offs outside of the designated times. Then come back to the Arnold Branch on Saturday\, September 27th from 1-3 PM to &quot\;shop&quot\; new (to you) clothes for you and your family. Check out our online calendar to learn more details about the clothing swap\, including what items are and aren&#39\;t accepted.
LOCATION:Jefferson County Library Arnold Branch 1701 Missouri State Rd Arnold MO 63010
UID:e.3169.3829
SEQUENCE:3
DTSTAMP:20260423T224846Z
URL:https://business.arnoldchamber.org/events/details/clothing-swap-3829
END:VEVENT

END:VCALENDAR
