BEGIN:VCALENDAR
VERSION:2.0
PRODID:-//ChamberMaster//Event Calendar 2.0//EN
METHOD:PUBLISH
X-PUBLISHED-TTL:P3D
REFRESH-INTERVAL:P3D
CALSCALE:GREGORIAN
BEGIN:VEVENT
DTSTART:20250902T130000Z
DTEND:20250902T140000Z
X-MICROSOFT-CDO-ALLDAYEVENT:FALSE
SUMMARY:Coffee Connections
DESCRIPTION:A networking opportunity for members who want to showcase their business and describe their ideal clients/customers to a group that wants to help grow local businesses.
X-ALT-DESC;FMTTYPE=text/html:A networking opportunity for members who want to showcase their business and describe their ideal clients/customers to a group that wants to help grow local businesses.&nbsp\;
LOCATION:Cedarhust 2063 Missouri State Rd Arnold\, MO 63010
UID:e.3169.3834
SEQUENCE:3
DTSTAMP:20260424T083827Z
URL:https://business.arnoldchamber.org/events/details/coffee-connections-3834
END:VEVENT

END:VCALENDAR
