BEGIN:VCALENDAR
VERSION:2.0
PRODID:-//ChamberMaster//Event Calendar 2.0//EN
METHOD:PUBLISH
X-PUBLISHED-TTL:P3D
REFRESH-INTERVAL:P3D
CALSCALE:GREGORIAN
BEGIN:VEVENT
DTSTART:20250905T190000Z
DTEND:20250905T203000Z
X-MICROSOFT-CDO-ALLDAYEVENT:FALSE
SUMMARY:Crafting for Connection
DESCRIPTION:Create bookmarks and gift tags to share with your neighbors\, and get tips from the Hopeful Neighborhood Project on how to connect with the people who live closest to you and why it matters.\nRegistration required. Ages 18+ Call 636-296-2204 or register online at jeffcolib.org events calendar.\nDate:  Friday\, September 5\, 2025  Time:  2:00pm - 3:30pm
X-ALT-DESC;FMTTYPE=text/html:Create bookmarks and gift tags to share with your neighbors\, and get tips from the Hopeful Neighborhood Project on how to connect with the people who live closest to you and why it matters.\nRegistration required. Ages 18+ Call 636-296-2204 or register online at jeffcolib.org events calendar.\nDate:  Friday\, September 5\, 2025  Time:  2:00pm - 3:30pm\n
LOCATION:Jefferson County Library Arnold Branch 1701 Missouri State Rd Arnold MO 63010
UID:e.3169.3826
SEQUENCE:3
DTSTAMP:20260424T064811Z
URL:https://business.arnoldchamber.org/events/details/crafting-for-connection-3826
END:VEVENT

END:VCALENDAR
