BEGIN:VCALENDAR
VERSION:2.0
PRODID:-//ChamberMaster//Event Calendar 2.0//EN
METHOD:PUBLISH
X-PUBLISHED-TTL:P3D
REFRESH-INTERVAL:P3D
CALSCALE:GREGORIAN
BEGIN:VEVENT
DTSTART:20251203T190000Z
DTEND:20251203T210000Z
X-MICROSOFT-CDO-ALLDAYEVENT:FALSE
SUMMARY:Diamond Art Ornaments
DESCRIPTION:Join us for a fun and relaxing workshop where you'll make your very own diamond art ornaments - beautiful\, shimmering decorations that catch the light and add sparkle to any space! No experience needed - all supplies are included! You'll leave with a completed ornament perfect for holiday gifts\, tree decorations\, or year-round sparkle. Adults. Registration required. Call 636-296-2204 to register or register at jeffcolib.org events calendar Date: Wednesday\, December 3\, 2025 Time: 1:00pm - 3:00pm
X-ALT-DESC;FMTTYPE=text/html:Join us for a fun and relaxing workshop where you&#39\;ll make your very own diamond art ornaments - beautiful\, shimmering decorations that catch the light and add sparkle to any space! No experience needed - all supplies are included! You&#39\;ll leave with a completed ornament perfect for holiday gifts\, tree decorations\, or year-round sparkle. Adults. Registration required. Call 636-296-2204 to register or register at jeffcolib.org events calendar Date: Wednesday\, December 3\, 2025 Time: 1:00pm - 3:00pm
LOCATION:Jefferson County Library Arnold Branch 1701 Missouri State Rd Arnold MO 63010
UID:e.3169.3931
SEQUENCE:3
DTSTAMP:20260423T180912Z
URL:https://business.arnoldchamber.org/events/details/diamond-art-ornaments-3931
END:VEVENT

END:VCALENDAR
