BEGIN:VCALENDAR
VERSION:2.0
PRODID:-//ChamberMaster//Event Calendar 2.0//EN
METHOD:PUBLISH
X-PUBLISHED-TTL:P3D
REFRESH-INTERVAL:P3D
CALSCALE:GREGORIAN
BEGIN:VEVENT
DTSTART:20251006T223000Z
DTEND:20251007T000000Z
X-MICROSOFT-CDO-ALLDAYEVENT:FALSE
SUMMARY:DIY Halloween Rugs
DESCRIPTION:Unleash your spooky creativity this Halloween! Join us for a fun-filled\, hands-on workshop where you’ll design and create your very own Halloween-themed rug! Perfect for Halloween lovers\, or anyone looking to create a one-of-a-kind spooky decor piece.\nAdults. Spaces are limited. Registration required. Call 636-296-2204\, or visit the online Calendar of Events at jeffcolib.org.
X-ALT-DESC;FMTTYPE=text/html:Unleash your spooky creativity this Halloween! Join us for a fun-filled\, hands-on workshop where you’ll design and create your very own Halloween-themed rug! Perfect for Halloween lovers\, or anyone looking to create a one-of-a-kind spooky decor piece.\nAdults. Spaces are limited. Registration required. Call 636-296-2204\, or visit the online Calendar of Events at jeffcolib.org.\n
LOCATION:Jefferson County Library Arnold Branch 1701 Missouri State Rd Arnold MO 63010
UID:e.3169.3885
SEQUENCE:3
DTSTAMP:20260424T022827Z
URL:https://business.arnoldchamber.org/events/details/diy-halloween-rugs-3885
END:VEVENT

END:VCALENDAR
