BEGIN:VCALENDAR
VERSION:2.0
PRODID:-//ChamberMaster//Event Calendar 2.0//EN
METHOD:PUBLISH
X-PUBLISHED-TTL:P3D
REFRESH-INTERVAL:P3D
CALSCALE:GREGORIAN
BEGIN:VEVENT
DTSTART:20251020T220000Z
DTEND:20251021T000000Z
X-MICROSOFT-CDO-ALLDAYEVENT:FALSE
SUMMARY:Fall Embroidery Class
DESCRIPTION:Learn how to get started with artistic embroidery and learn several basic embroidery stitches. Participants will begin stitching a sampler in the shape of a pumpkin. The class is designed for beginners\, but all skill levels are welcome! All supplies are provided. Registration required. Ages 16+ Registration: call 636-296-2204\, or visit the online Calendar of Events at jeffcolib.org. Date: Monday\, October 20\, 2025 Time: 5:00pm - 7:00pm
X-ALT-DESC;FMTTYPE=text/html:Learn how to get started with artistic embroidery and learn several basic embroidery stitches. Participants will begin stitching a sampler in the shape of a pumpkin. The class is designed for beginners\, but all skill levels are welcome! All supplies are provided. Registration required. Ages 16+ Registration: call 636-296-2204\, or visit the online Calendar of Events at jeffcolib.org. Date: Monday\, October 20\, 2025 Time: 5:00pm - 7:00pm
LOCATION:Jefferson County Library Arnold Branch 1701 Missouri State Rd Arnold MO 63010
UID:e.3169.3882
SEQUENCE:3
DTSTAMP:20260423T124526Z
URL:https://business.arnoldchamber.org/events/details/fall-embroidery-class-3882
END:VEVENT

END:VCALENDAR
