BEGIN:VCALENDAR
VERSION:2.0
PRODID:-//ChamberMaster//Event Calendar 2.0//EN
METHOD:PUBLISH
X-PUBLISHED-TTL:P3D
REFRESH-INTERVAL:P3D
CALSCALE:GREGORIAN
BEGIN:VEVENT
DTSTART:20251001T150000Z
DTEND:20251001T163000Z
X-MICROSOFT-CDO-ALLDAYEVENT:FALSE
SUMMARY:Google Docs Basics
DESCRIPTION:Learn basic terminology and skills to help you be successful at word processing functions including creating\, saving\, and opening documents in this hands-on class using library laptops. \nMust be familiar with how to use a computer keyboard and mouse.\nRegistration required. Machine call 636-296-2204\, or visit the online Calendar of Events at jeffcolib.org.\n Adults.\nDate: Wednesday\, October 1\, 2025 Time:  10:00am - 11:30am
X-ALT-DESC;FMTTYPE=text/html:Learn basic terminology and skills to help you be successful at word processing functions including creating\, saving\, and opening documents in this hands-on class using library laptops. \nMust be familiar with how to use a computer keyboard and mouse.\nRegistration required. Machine call 636-296-2204\, or visit the online Calendar of Events at jeffcolib.org.\n Adults.\nDate: Wednesday\, October 1\, 2025 Time:  10:00am - 11:30am\n
LOCATION:Jefferson County Library Arnold Branch 1701 Missouri State Rd Arnold MO 63010
UID:e.3169.3884
SEQUENCE:3
DTSTAMP:20260423T213526Z
URL:https://business.arnoldchamber.org/events/details/google-docs-basics-3884
END:VEVENT

END:VCALENDAR
