BEGIN:VCALENDAR
VERSION:2.0
PRODID:-//ChamberMaster//Event Calendar 2.0//EN
METHOD:PUBLISH
X-PUBLISHED-TTL:P3D
REFRESH-INTERVAL:P3D
CALSCALE:GREGORIAN
BEGIN:VEVENT
DTSTART:20190615T153000Z
DTEND:20190615T170000Z
X-MICROSOFT-CDO-ALLDAYEVENT:FALSE
SUMMARY:Learn how to make Pinch Pots
DESCRIPTION:Saturday June 15th at 10:30 a.m. Join us to learn how to make easy pinch pots. All skill levels welcome. Supplies are provided. Ages 12 and up. Registration required. Taught by Ms. Angie. Call 636-296-5171 to register or register online at www.jeffcolib.org events.
X-ALT-DESC;FMTTYPE=text/html:Saturday June 15th at 10:30 a.m. Join us to learn how to make easy pinch pots. All skill levels welcome. Supplies are provided. Ages 12 and up. Registration required. Taught by Ms. Angie. Call 636-296-5171 to register or register online at www.jeffcolib.org events.
LOCATION:Jefferson County Library Arnold Branch 1701 Missouri State Rd Arnold MO 63010
UID:e.3169.1296
SEQUENCE:3
DTSTAMP:20260419T163141Z
URL:https://business.arnoldchamber.org/events/details/learn-how-to-make-pinch-pots-1296
END:VEVENT

END:VCALENDAR
