BEGIN:VCALENDAR
VERSION:2.0
PRODID:-//ChamberMaster//Event Calendar 2.0//EN
METHOD:PUBLISH
X-PUBLISHED-TTL:P3D
REFRESH-INTERVAL:P3D
CALSCALE:GREGORIAN
BEGIN:VEVENT
DTSTART:20251207T010000Z
DTEND:20251207T050000Z
X-MICROSOFT-CDO-ALLDAYEVENT:FALSE
SUMMARY:Nemesis 22
DESCRIPTION:NFA returns HOME on Saturday December 6th for an action packed night of Pro and Amateur Mixed Martial Arts. Live from Arnold Eagles Hall.\n\n \n\nDoors open at 6:00 PM and the show begins at 7PM - This is is an ALL AGES EVENT.\n\n \n\n**ALL TICKET PURCHASES FINAL- NO REFUNDS**\n\nTickets Purchased on line will be available at will call on the day of the event at the venue.\n\n \n\n[Table Seating] $70 eight seats to a table\n\n \n\n[Reserved seating] $60 guaranteed seat in row\n\n \n\n[General Admission] $45 standing room only (limited seating is available)\n\n \n\nALL ONLINE ORDERS WILL BE PICKED UP AT WILL CALL THE DAY OF THE EVENT\n\n \n\n***CARD SUBJECT TO CHANGE***
X-ALT-DESC;FMTTYPE=text/html:<p>NFA returns HOME on Saturday December 6th for an action packed night of Pro and Amateur Mixed Martial Arts. Live from Arnold Eagles Hall.</p>\n\n<p>&nbsp\;</p>\n\n<p>Doors open at 6:00 PM and the show begins at 7PM - This is is an ALL AGES EVENT.</p>\n\n<p>&nbsp\;</p>\n\n<p>**ALL TICKET PURCHASES FINAL- NO REFUNDS**</p>\n\n<p>Tickets Purchased on line will be available at will call on the day of the event at the venue.</p>\n\n<p>&nbsp\;</p>\n\n<p>[Table Seating] $70 eight seats to a table</p>\n\n<p>&nbsp\;</p>\n\n<p>[Reserved seating] $60 guaranteed seat in row</p>\n\n<p>&nbsp\;</p>\n\n<p>[General Admission] $45 standing room only (limited seating is available)</p>\n\n<p>&nbsp\;</p>\n\n<p>ALL ONLINE ORDERS WILL BE PICKED UP AT WILL CALL THE DAY OF THE EVENT</p>\n\n<p>&nbsp\;</p>\n\n<p>***CARD SUBJECT TO CHANGE***</p>\n
LOCATION:The Arnold Eagles Hall 1725 Jeffco Blvd Arnold Mo 63010
UID:e.3169.3862
SEQUENCE:3
DTSTAMP:20260424T032243Z
URL:https://business.arnoldchamber.org/events/details/nemesis-22-3862
END:VEVENT

END:VCALENDAR
