BEGIN:VCALENDAR
VERSION:2.0
PRODID:-//ChamberMaster//Event Calendar 2.0//EN
METHOD:PUBLISH
X-PUBLISHED-TTL:P3D
REFRESH-INTERVAL:P3D
CALSCALE:GREGORIAN
BEGIN:VEVENT
DTSTART:20251104T000000Z
DTEND:20251104T010000Z
X-MICROSOFT-CDO-ALLDAYEVENT:FALSE
SUMMARY:Pet Care & Training
DESCRIPTION:Join us for an interactive presentation by CHAMP Assistance Dogs on how to care for and train your pet dog. For ages 3-12 years! Sign-up required! ! Call 636-296-2204 to register or register at jeffcolib.org library events Date: Monday\, November 3\, 2025 Time: 6:00pm - 7:00pm
X-ALT-DESC;FMTTYPE=text/html:Join us for an interactive presentation by CHAMP Assistance Dogs on how to care for and train your pet dog. For ages 3-12 years! Sign-up required! ! Call 636-296-2204 to register or register at jeffcolib.org library events Date: Monday\, November 3\, 2025 Time: 6:00pm - 7:00pm
LOCATION:Jefferson County Library Arnold Branch 1701 Missouri State Rd Arnold MO 63010
UID:e.3169.3901
SEQUENCE:3
DTSTAMP:20260423T213931Z
URL:https://business.arnoldchamber.org/events/details/pet-care-training-3901
END:VEVENT

END:VCALENDAR
