BEGIN:VCALENDAR
VERSION:2.0
PRODID:-//ChamberMaster//Event Calendar 2.0//EN
METHOD:PUBLISH
X-PUBLISHED-TTL:P3D
REFRESH-INTERVAL:P3D
CALSCALE:GREGORIAN
BEGIN:VEVENT
DTSTART:20251022T180000Z
DTEND:20251022T210000Z
X-MICROSOFT-CDO-ALLDAYEVENT:FALSE
SUMMARY:Sew Fun Workshop
DESCRIPTION:Bring your own project and use our equipment. Staff is available to assist. Alteration services are not being offered. No registration required. Ages 16+ \n Date:  Wednesday\, October 22\, 2025 Time:  1:00pm - 4:00pm
X-ALT-DESC;FMTTYPE=text/html:Bring your own project and use our equipment. Staff is available to assist. Alteration services are not being offered. No registration required. Ages 16+ \n Date:  Wednesday\, October 22\, 2025 Time:  1:00pm - 4:00pm\n
LOCATION:Jefferson County Library Arnold Branch 1701 Missouri State Rd Arnold MO 63010
UID:e.3169.3889
SEQUENCE:3
DTSTAMP:20260423T114902Z
URL:https://business.arnoldchamber.org/events/details/sew-fun-workshop-10-22-2025-3889
END:VEVENT

END:VCALENDAR
