BEGIN:VCALENDAR
VERSION:2.0
PRODID:-//ChamberMaster//Event Calendar 2.0//EN
METHOD:PUBLISH
X-PUBLISHED-TTL:P3D
REFRESH-INTERVAL:P3D
CALSCALE:GREGORIAN
BEGIN:VEVENT
DTSTART:20250903T160000Z
DTEND:20250903T170000Z
X-MICROSOFT-CDO-ALLDAYEVENT:FALSE
SUMMARY:Smartphone Basics
DESCRIPTION:Learn how to navigate your smartphone. For both iPhone and Android users. Must bring your own smartphone to class. Bring your login and password to your Apple ID or the email you used to register the phone in order to download apps. Adults. Registration required. Call 636-296-2204 to register or register online at jeffco.lib.org Date: Wednesday\, September 3\, 2025 Time: 11:00am - 12:00pm
X-ALT-DESC;FMTTYPE=text/html:Learn how to navigate your smartphone. For both iPhone and Android users. Must bring your own smartphone to class. Bring your login and password to your Apple ID or the email you used to register the phone in order to download apps. Adults. Registration required. Call 636-296-2204 to register or register online at jeffco.lib.org Date: Wednesday\, September 3\, 2025 Time: 11:00am - 12:00pm
LOCATION:Jefferson County Library Arnold Branch 1701 Missouri State Rd Arnold MO 63010
UID:e.3169.3849
SEQUENCE:3
DTSTAMP:20260423T225429Z
URL:https://business.arnoldchamber.org/events/details/smartphone-basics-09-03-2025-3849
END:VEVENT

END:VCALENDAR
