BEGIN:VCALENDAR
VERSION:2.0
PRODID:-//ChamberMaster//Event Calendar 2.0//EN
METHOD:PUBLISH
X-PUBLISHED-TTL:P3D
REFRESH-INTERVAL:P3D
CALSCALE:GREGORIAN
BEGIN:VEVENT
DTSTART:20261011T150000Z
DTEND:20261011T220000Z
X-MICROSOFT-CDO-ALLDAYEVENT:FALSE
SUMMARY:VegFest
DESCRIPTION:VegFest is an annual event that encompasses all things vegan. One thing all vegans have in common is a plant-based diet avoiding all animal foods as well as avoiding animal-derived materials\, products tested on animals and places that use animals for entertainment.
X-ALT-DESC;FMTTYPE=text/html:VegFest is an annual event that encompasses all things vegan. One thing all vegans have in common is a plant-based diet avoiding all animal foods as well as avoiding animal-derived materials\, products tested on animals and places that use animals for entertainment.
LOCATION:World Fair Pavilion at Forest Park
UID:e.3169.4128
SEQUENCE:3
DTSTAMP:20260424T112631Z
URL:https://business.arnoldchamber.org/events/details/vegfest-4128
END:VEVENT

END:VCALENDAR
