BEGIN:VCALENDAR
VERSION:2.0
PRODID:-//ChamberMaster//Event Calendar 2.0//EN
METHOD:PUBLISH
X-PUBLISHED-TTL:P3D
REFRESH-INTERVAL:P3D
CALSCALE:GREGORIAN
BEGIN:VEVENT
DTSTART:20251211T001500Z
DTEND:20251211T011500Z
X-MICROSOFT-CDO-ALLDAYEVENT:FALSE
SUMMARY:Website Focus Group at JCL-Arnold
DESCRIPTION:Library Website Focus Group   Share Your Thoughts & Win! We want to hear from you! Join our Library Website Focus Group and help us improve your online experience. Your feedback will directly influence the design and functionality of our website\, making it easier and more enjoyable for everyone to use. Details:   Multiple sessions available at different locations  pick the one that works best for you!   Each session lasts about 60 minutes.   Open to all adult library patrons Bonus: At the end of each session\, one lucky participant will be randomly selected to win a $50 Walmart gift card! Spaces are limited\, so reserve your spot today. Registration Required. Date: Wednesday\, December 10\, 2025 Time: 6:15pm - 7:15pm
X-ALT-DESC;FMTTYPE=text/html:Library Website Focus Group &mdash\; Share Your Thoughts &amp\; Win! We want to hear from you! Join our Library Website Focus Group and help us improve your online experience. Your feedback will directly influence the design and functionality of our website\, making it easier and more enjoyable for everyone to use. Details: &bull\; Multiple sessions available at different locations&mdash\; pick the one that works best for you! &bull\; Each session lasts about 60 minutes. &bull\; Open to all adult library patrons Bonus: At the end of each session\, one lucky participant will be randomly selected to win a $50 Walmart gift card! Spaces are limited\, so reserve your spot today. Registration Required. Date: Wednesday\, December 10\, 2025 Time: 6:15pm - 7:15pm
LOCATION:Jefferson County Library Arnold Branch 1701 Missouri State Rd Arnold MO 63010
UID:e.3169.3928
SEQUENCE:3
DTSTAMP:20260423T201725Z
URL:https://business.arnoldchamber.org/events/details/website-focus-group-at-jcl-arnold-3928
END:VEVENT

END:VCALENDAR
